Package: metapod Version: 1.15.0 Command: rm -rf metapod.buildbin-libdir && mkdir metapod.buildbin-libdir && /Users/biocbuild/BBS/utils/build-universal.sh metapod_1.15.0.tar.gz /Library/Frameworks/R.framework/Resources/bin/R metapod.buildbin-libdir StartedAt: 2025-02-04 00:42:21 -0500 (Tue, 04 Feb 2025) EndedAt: 2025-02-04 00:42:50 -0500 (Tue, 04 Feb 2025) EllapsedTime: 29.1 seconds RetCode: 0 Status: OK PackageFile: metapod_1.15.0.tgz PackageFileSize: 492 KiB