Package: metapod Version: 1.15.0 Command: /Library/Frameworks/R.framework/Resources/bin/R CMD build --keep-empty-dirs --no-resave-data metapod StartedAt: 2025-02-03 17:28:04 -0500 (Mon, 03 Feb 2025) EndedAt: 2025-02-03 17:28:13 -0500 (Mon, 03 Feb 2025) EllapsedTime: 9.1 seconds RetCode: 0 Status: OK PackageFile: metapod_1.15.0.tar.gz PackageFileSize: 323.8 KiB