Back to Multiple platform build/check report for BioC 3.22:   simplified   long
ABCDEFGHIJKL[M]NOPQRSTUVWXYZ

This page was generated on 2025-05-04 12:04 -0400 (Sun, 04 May 2025).

HostnameOSArch (*)R versionInstalled pkgs
nebbiolo2Linux (Ubuntu 24.04.1 LTS)x86_644.5.0 (2025-04-11) -- "How About a Twenty-Six" 4745
palomino8Windows Server 2022 Datacenterx644.5.0 (2025-04-11 ucrt) -- "How About a Twenty-Six" 4507
lconwaymacOS 12.7.1 Montereyx86_644.5.0 Patched (2025-04-21 r88169) -- "How About a Twenty-Six" 4546
kjohnson3macOS 13.7.1 Venturaarm644.5.0 Patched (2025-04-21 r88169) -- "How About a Twenty-Six" 4486
taishanLinux (openEuler 24.03 LTS)aarch644.5.0 (2025-04-11) -- "How About a Twenty-Six" 4434
Click on any hostname to see more info about the system (e.g. compilers)      (*) as reported by 'uname -p', except on Windows and Mac OS X

All results for package metapod


To the developers/maintainers of the metapod package:
- Allow up to 24 hours (and sometimes 48 hours) for your latest push to git@git.bioconductor.org:packages/metapod.git to reflect on this report. See Troubleshooting Build Report for more information.
- Use the following Renviron settings to reproduce errors and warnings.
- If 'R CMD check' started to fail recently on the Linux builder(s) over a missing dependency, add the missing dependency to 'Suggests:' in your DESCRIPTION file. See Renviron.bioc for more information.

raw results

Package 1221/2304HostnameOS / ArchINSTALLBUILDCHECKBUILD BIN
metapod 1.17.0  (landing page)
Aaron Lun
Snapshot Date: 2025-05-02 13:00 -0400 (Fri, 02 May 2025)
git_url: https://git.bioconductor.org/packages/metapod
git_branch: devel
git_last_commit: c02185b
git_last_commit_date: 2025-04-15 12:15:21 -0400 (Tue, 15 Apr 2025)
nebbiolo2Linux (Ubuntu 24.04.1 LTS) / x86_64  OK    OK    OK  UNNEEDED, same version is already published
palomino8Windows Server 2022 Datacenter / x64  OK    OK    OK    OK  UNNEEDED, same version is already published
lconwaymacOS 12.7.1 Monterey / x86_64  OK    OK    OK    OK  UNNEEDED, same version is already published
kjohnson3macOS 13.7.1 Ventura / arm64  OK    OK    OK    OK  UNNEEDED, same version is already published
taishanLinux (openEuler 24.03 LTS) / aarch64  OK    OK    OK  



Results for Bioconductor software packages that depend directly on package metapod

QUICK STATSOS / ArchINSTALLBUILDCHECKBUILD BIN
nebbiolo2Linux (Ubuntu 24.04.1 LTS) / x86_64
004
004
0013
palomino8Windows Server 2022 Datacenter / x64
004
013
0012
003
lconwaymacOS 12.7.1 Monterey / x86_64
004
013
0012
003
kjohnson3macOS 13.7.1 Ventura / arm64
004
013
0021
003
taishanLinux (openEuler 24.03 LTS) / aarch64
004
013
0012
Package 1/4HostnameOS / ArchINSTALLBUILDCHECKBUILD BIN
csaw 1.43.0  (landing page)
Aaron Lun
git_last_commit: 5b157bb
git_last_commit_date: 2025-04-15 10:35:38 -0400
nebbiolo2Linux (Ubuntu 24.04.1 LTS) / x86_64  OK    OK    OK  UNNEEDED, same version is already published
palomino8Windows Server 2022 Datacenter / x64  OK    OK    OK    OK  UNNEEDED, same version is already published
lconwaymacOS 12.7.1 Monterey / x86_64  OK    OK    OK    OK  UNNEEDED, same version is already published
kjohnson3macOS 13.7.1 Ventura / arm64  OK    OK    WARNINGS    OK  UNNEEDED, same version is already published
taishanLinux (openEuler 24.03 LTS) / aarch64  OK    OK    OK  
Package 2/4HostnameOS / ArchINSTALLBUILDCHECKBUILD BIN
mumosa 1.17.0  (landing page)
Aaron Lun
git_last_commit: 2907a7a
git_last_commit_date: 2025-04-15 12:16:33 -0400
nebbiolo2Linux (Ubuntu 24.04.1 LTS) / x86_64  OK    OK    OK  UNNEEDED, same version is already published
palomino8Windows Server 2022 Datacenter / x64  OK    OK    OK    OK  NO, package depends on 'scran' which is only available as a source package that needs compilation
lconwaymacOS 12.7.1 Monterey / x86_64  OK    OK    OK    OK  UNNEEDED, same version is already published
kjohnson3macOS 13.7.1 Ventura / arm64  OK    OK    OK    OK  NO, package depends on 'DelayedArray' which is only available as a source package that needs compilation
taishanLinux (openEuler 24.03 LTS) / aarch64  OK    OK    OK  
Package 3/4HostnameOS / ArchINSTALLBUILDCHECKBUILD BIN
scp 1.19.0  (landing page)
Christophe Vanderaa
git_last_commit: e69ff5e
git_last_commit_date: 2025-04-15 12:11:18 -0400
nebbiolo2Linux (Ubuntu 24.04.1 LTS) / x86_64  OK    OK    OK  UNNEEDED, same version is already published
palomino8Windows Server 2022 Datacenter / x64  OK    ERROR  skippedskipped
lconwaymacOS 12.7.1 Monterey / x86_64  OK    ERROR  skippedskipped
kjohnson3macOS 13.7.1 Ventura / arm64  OK    ERROR  skippedskipped
taishanLinux (openEuler 24.03 LTS) / aarch64  OK    ERROR  skipped
Package 4/4HostnameOS / ArchINSTALLBUILDCHECKBUILD BIN
scran 1.37.0  (landing page)
Aaron Lun
git_last_commit: 5aa5fc4
git_last_commit_date: 2025-04-15 11:00:55 -0400
nebbiolo2Linux (Ubuntu 24.04.1 LTS) / x86_64  OK    OK    WARNINGS  UNNEEDED, same version is already published
palomino8Windows Server 2022 Datacenter / x64  OK    OK    WARNINGS    OK  NO, package depends on 'bluster' which is only available as a source package that needs compilation
lconwaymacOS 12.7.1 Monterey / x86_64  OK    OK    WARNINGS    OK  UNNEEDED, same version is already published
kjohnson3macOS 13.7.1 Ventura / arm64  OK    OK    WARNINGS    OK  NO, package depends on 'scuttle' which is only available as a source package that needs compilation
taishanLinux (openEuler 24.03 LTS) / aarch64  OK    OK    WARNINGS