Package: metahdep Version: 1.67.0 Command: /home/biocbuild/bbs-3.22-bioc/R/bin/R CMD INSTALL metahdep StartedAt: 2025-10-06 15:02:05 -0400 (Mon, 06 Oct 2025) EndedAt: 2025-10-06 15:02:09 -0400 (Mon, 06 Oct 2025) EllapsedTime: 3.7 seconds RetCode: 0 Status: OK