Package: metahdep Version: 1.67.0 Command: rm -rf metahdep.buildbin-libdir && mkdir metahdep.buildbin-libdir && /Users/biocbuild/BBS/utils/build-universal.sh metahdep_1.67.0.tar.gz /Library/Frameworks/R.framework/Resources/bin/R metahdep.buildbin-libdir StartedAt: 2025-10-01 22:52:56 -0400 (Wed, 01 Oct 2025) EndedAt: 2025-10-01 22:52:59 -0400 (Wed, 01 Oct 2025) EllapsedTime: 3.1 seconds RetCode: 0 Status: OK PackageFile: metahdep_1.67.0.tgz PackageFileSize: 651.2 KiB