Package: metahdep Version: 1.67.0 Maintainer: John R. Stevens MaintainerEmail: john.r.stevens at usu.edu git_url: https://git.bioconductor.org/packages/metahdep git_branch: devel git_last_commit: ebf2f12 git_last_commit_date: 2025-04-15 09:44:10 -0400 (Tue, 15 Apr 2025)