Package: metabomxtr Version: 1.43.0 Command: /Library/Frameworks/R.framework/Resources/bin/R CMD INSTALL metabomxtr StartedAt: 2025-05-08 15:12:20 -0400 (Thu, 08 May 2025) EndedAt: 2025-05-08 15:12:34 -0400 (Thu, 08 May 2025) EllapsedTime: 13.4 seconds RetCode: 0 Status: OK