Package: metabomxtr Version: 1.43.0 Command: /Library/Frameworks/R.framework/Resources/bin/R CMD check --install=check:metabomxtr.install-out.txt --library=/Library/Frameworks/R.framework/Resources/library --no-vignettes --timings metabomxtr_1.43.0.tar.gz StartedAt: 2025-05-09 21:46:42 -0400 (Fri, 09 May 2025) EndedAt: 2025-05-09 21:48:18 -0400 (Fri, 09 May 2025) EllapsedTime: 96.6 seconds RetCode: 0 Status: OK CheckDir: metabomxtr.Rcheck Warnings: 0