Package: metabomxtr Version: 1.43.0 Command: /Library/Frameworks/R.framework/Resources/bin/R CMD build --keep-empty-dirs --no-resave-data metabomxtr StartedAt: 2025-05-09 17:28:07 -0400 (Fri, 09 May 2025) EndedAt: 2025-05-09 17:28:47 -0400 (Fri, 09 May 2025) EllapsedTime: 39.9 seconds RetCode: 0 Status: OK PackageFile: metabomxtr_1.43.0.tar.gz PackageFileSize: 558.5 KiB