Package: metabomxtr Version: 1.43.0 Command: /Library/Frameworks/R.framework/Resources/bin/R CMD build --keep-empty-dirs --no-resave-data metabomxtr StartedAt: 2025-05-09 16:56:31 -0400 (Fri, 09 May 2025) EndedAt: 2025-05-09 16:56:46 -0400 (Fri, 09 May 2025) EllapsedTime: 14.2 seconds RetCode: 0 Status: OK PackageFile: metabomxtr_1.43.0.tar.gz PackageFileSize: 558.4 KiB