Package: metabomxtr Version: 1.43.0 Command: rm -rf metabomxtr.buildbin-libdir && mkdir metabomxtr.buildbin-libdir && /Users/biocbuild/BBS/utils/build-universal.sh metabomxtr_1.43.0.tar.gz /Library/Frameworks/R.framework/Resources/bin/R metabomxtr.buildbin-libdir StartedAt: 2025-05-09 22:46:42 -0400 (Fri, 09 May 2025) EndedAt: 2025-05-09 22:46:47 -0400 (Fri, 09 May 2025) EllapsedTime: 5.1 seconds RetCode: 0 Status: OK PackageFile: metabomxtr_1.43.0.tgz PackageFileSize: 650.5 KiB