Package: metabolomicsWorkbenchR Version: 1.19.0 Maintainer: Gavin Rhys Lloyd MaintainerEmail: g.r.lloyd at bham.ac.uk git_url: https://git.bioconductor.org/packages/metabolomicsWorkbenchR git_branch: devel git_last_commit: 8863450 git_last_commit_date: 2025-04-15 12:07:38 -0400 (Tue, 15 Apr 2025)