Package: metabinR Version: 1.11.0 Command: /home/biocbuild/bbs-3.22-bioc/R/bin/R CMD INSTALL metabinR StartedAt: 2025-10-05 15:02:57 -0400 (Sun, 05 Oct 2025) EndedAt: 2025-10-05 15:03:14 -0400 (Sun, 05 Oct 2025) EllapsedTime: 17.9 seconds RetCode: 0 Status: OK