Package: metabinR Version: 1.11.0 Command: /Library/Frameworks/R.framework/Resources/bin/R CMD build --keep-empty-dirs --no-resave-data metabinR StartedAt: 2025-05-07 17:23:32 -0400 (Wed, 07 May 2025) EndedAt: 2025-05-07 17:24:23 -0400 (Wed, 07 May 2025) EllapsedTime: 51.4 seconds RetCode: 0 Status: OK PackageFile: metabinR_1.11.0.tar.gz PackageFileSize: 4.389 MiB