Package: metabCombiner Version: 1.19.0 Command: rm -rf metabCombiner.buildbin-libdir && mkdir metabCombiner.buildbin-libdir && F:\biocbuild\bbs-3.22-bioc\R\bin\R.exe CMD INSTALL --build --library=metabCombiner.buildbin-libdir metabCombiner_1.19.0.tar.gz StartedAt: 2025-08-15 10:39:16 -0400 (Fri, 15 Aug 2025) EndedAt: 2025-08-15 10:40:54 -0400 (Fri, 15 Aug 2025) EllapsedTime: 97.6 seconds RetCode: 0 Status: OK PackageFile: metabCombiner_1.19.0.zip PackageFileSize: 2.88 MiB