Package: metabCombiner Version: 1.17.0 Command: /Library/Frameworks/R.framework/Resources/bin/R CMD build --keep-empty-dirs --no-resave-data metabCombiner StartedAt: 2025-02-03 17:20:31 -0500 (Mon, 03 Feb 2025) EndedAt: 2025-02-03 17:21:11 -0500 (Mon, 03 Feb 2025) EllapsedTime: 40.0 seconds RetCode: 0 Status: OK PackageFile: metabCombiner_1.17.0.tar.gz PackageFileSize: 2.552 MiB