Package: metabCombiner Version: 1.17.0 Command: /home/biocbuild/R/R/bin/R CMD build --keep-empty-dirs --no-resave-data metabCombiner StartedAt: 2025-01-29 00:07:48 -0000 (Wed, 29 Jan 2025) EndedAt: 2025-01-29 00:08:31 -0000 (Wed, 29 Jan 2025) EllapsedTime: 43.0 seconds RetCode: 0 Status: OK PackageFile: metabCombiner_1.17.0.tar.gz PackageFileSize: 2.535 MiB