Package: metabCombiner Version: 1.17.0 Command: /Library/Frameworks/R.framework/Resources/bin/R CMD INSTALL metabCombiner StartedAt: 2025-01-31 15:23:30 -0500 (Fri, 31 Jan 2025) EndedAt: 2025-01-31 15:23:36 -0500 (Fri, 31 Jan 2025) EllapsedTime: 6.3 seconds RetCode: 0 Status: OK