Package: metabCombiner Version: 1.17.0 Command: /Library/Frameworks/R.framework/Resources/bin/R CMD build --keep-empty-dirs --no-resave-data metabCombiner StartedAt: 2025-02-05 16:51:56 -0500 (Wed, 05 Feb 2025) EndedAt: 2025-02-05 16:52:09 -0500 (Wed, 05 Feb 2025) EllapsedTime: 13.1 seconds RetCode: 0 Status: OK PackageFile: metabCombiner_1.17.0.tar.gz PackageFileSize: 2.552 MiB