Package: metaSeq Version: 1.49.0 Command: chmod a+r metaSeq -R && F:\biocbuild\bbs-3.22-bioc\R\bin\R.exe CMD build --keep-empty-dirs --no-resave-data metaSeq StartedAt: 2025-08-14 21:20:51 -0400 (Thu, 14 Aug 2025) EndedAt: 2025-08-14 21:21:14 -0400 (Thu, 14 Aug 2025) EllapsedTime: 23.6 seconds RetCode: 0 Status: OK PackageFile: metaSeq_1.49.0.tar.gz PackageFileSize: 6.084 MiB