Package: metaSeq Version: 1.49.0 Command: rm -rf metaSeq.buildbin-libdir && mkdir metaSeq.buildbin-libdir && F:\biocbuild\bbs-3.22-bioc\R\bin\R.exe CMD INSTALL --build --library=metaSeq.buildbin-libdir metaSeq_1.49.0.tar.gz StartedAt: 2025-08-15 10:39:55 -0400 (Fri, 15 Aug 2025) EndedAt: 2025-08-15 10:40:10 -0400 (Fri, 15 Aug 2025) EllapsedTime: 15.1 seconds RetCode: 0 Status: OK PackageFile: metaSeq_1.49.0.zip PackageFileSize: 6.068 MiB