Package: metaSeq Version: 1.49.0 Command: /home/biocbuild/bbs-3.22-bioc/R/bin/R CMD INSTALL metaSeq StartedAt: 2025-10-01 15:15:54 -0400 (Wed, 01 Oct 2025) EndedAt: 2025-10-01 15:16:02 -0400 (Wed, 01 Oct 2025) EllapsedTime: 7.5 seconds RetCode: 0 Status: OK