Package: metaMS Version: 1.43.0 Command: E:\biocbuild\bbs-3.21-bioc\R\bin\R.exe CMD check --no-multiarch --install=check:metaMS.install-out.txt --library=E:\biocbuild\bbs-3.21-bioc\R\library --no-vignettes --timings metaMS_1.43.0.tar.gz StartedAt: 2025-02-17 02:34:04 -0500 (Mon, 17 Feb 2025) EndedAt: 2025-02-17 02:41:10 -0500 (Mon, 17 Feb 2025) EllapsedTime: 426.2 seconds RetCode: 0 Status: OK CheckDir: metaMS.Rcheck Warnings: 0