Package: metaMS Version: 1.45.0 Command: /home/biocbuild/bbs-3.22-bioc/R/bin/R CMD INSTALL metaMS StartedAt: 2025-10-14 15:42:18 -0400 (Tue, 14 Oct 2025) EndedAt: 2025-10-14 15:43:06 -0400 (Tue, 14 Oct 2025) EllapsedTime: 47.9 seconds RetCode: 0 Status: OK