Package: metaMS Version: 1.45.0 Command: /home/biocbuild/bbs-3.22-bioc/R/bin/R CMD build --keep-empty-dirs --no-resave-data --md5 metaMS StartedAt: 2025-10-14 18:32:56 -0400 (Tue, 14 Oct 2025) EndedAt: 2025-10-14 18:34:05 -0400 (Tue, 14 Oct 2025) EllapsedTime: 69.1 seconds RetCode: 0 Status: OK PackageFile: metaMS_1.45.0.tar.gz PackageFileSize: 3.819 MiB