Package: metaMS Version: 1.43.0 Command: /home/biocbuild/bbs-3.21-bioc/R/bin/R CMD INSTALL metaMS StartedAt: 2025-02-16 15:46:08 -0500 (Sun, 16 Feb 2025) EndedAt: 2025-02-16 15:46:52 -0500 (Sun, 16 Feb 2025) EllapsedTime: 44.5 seconds RetCode: 0 Status: OK