Package: metaCCA Version: 1.37.0 Command: chmod a+r metaCCA -R && F:\biocbuild\bbs-3.22-bioc\R\bin\R.exe CMD build --keep-empty-dirs --no-resave-data metaCCA StartedAt: 2025-08-14 21:19:40 -0400 (Thu, 14 Aug 2025) EndedAt: 2025-08-14 21:19:57 -0400 (Thu, 14 Aug 2025) EllapsedTime: 17.0 seconds RetCode: 0 Status: OK PackageFile: metaCCA_1.37.0.tar.gz PackageFileSize: 926 KiB