Package: metaCCA Version: 1.37.0 Maintainer: Anna Cichonska MaintainerEmail: anna.cichonska at gmail.com git_url: https://git.bioconductor.org/packages/metaCCA git_branch: devel git_last_commit: 351ce72 git_last_commit_date: 2025-04-15 10:58:19 -0400 (Tue, 15 Apr 2025)