Package: meshr Version: 2.15.0 Command: /home/biocbuild/R/R/bin/R CMD INSTALL meshr StartedAt: 2025-10-23 20:52:17 -0000 (Thu, 23 Oct 2025) EndedAt: 2025-10-23 20:52:44 -0000 (Thu, 23 Oct 2025) EllapsedTime: 27.4 seconds RetCode: 0 Status: OK