Package: meshr Version: 2.15.0 Command: /Library/Frameworks/R.framework/Resources/bin/R CMD INSTALL meshr StartedAt: 2025-10-06 15:28:49 -0400 (Mon, 06 Oct 2025) EndedAt: 2025-10-06 15:29:18 -0400 (Mon, 06 Oct 2025) EllapsedTime: 28.6 seconds RetCode: 0 Status: OK