Package: meshr Version: 2.15.0 Command: /Library/Frameworks/R.framework/Resources/bin/R CMD build --keep-empty-dirs --no-resave-data meshr StartedAt: 2025-10-06 17:44:39 -0400 (Mon, 06 Oct 2025) EndedAt: 2025-10-06 17:45:14 -0400 (Mon, 06 Oct 2025) EllapsedTime: 34.6 seconds RetCode: 0 Status: OK PackageFile: meshr_2.15.0.tar.gz PackageFileSize: 1002 KiB