Package: meshr Version: 2.15.0 Command: rm -rf meshr.buildbin-libdir && mkdir meshr.buildbin-libdir && /Users/biocbuild/BBS/utils/build-universal.sh meshr_2.15.0.tar.gz /Library/Frameworks/R.framework/Resources/bin/R meshr.buildbin-libdir StartedAt: 2025-10-07 02:18:37 -0400 (Tue, 07 Oct 2025) EndedAt: 2025-10-07 02:19:10 -0400 (Tue, 07 Oct 2025) EllapsedTime: 32.4 seconds RetCode: 0 Status: OK PackageFile: meshr_2.15.0.tgz PackageFileSize: 931.8 KiB