Package: meshr Version: 2.13.0 Command: /Library/Frameworks/R.framework/Resources/bin/R CMD INSTALL meshr StartedAt: 2025-02-03 15:57:01 -0500 (Mon, 03 Feb 2025) EndedAt: 2025-02-03 15:57:09 -0500 (Mon, 03 Feb 2025) EllapsedTime: 8.3 seconds RetCode: 0 Status: OK