Package: meshr Version: 2.13.0 Command: /Library/Frameworks/R.framework/Resources/bin/R CMD check --install=check:meshr.install-out.txt --library=/Library/Frameworks/R.framework/Resources/library --no-vignettes --timings meshr_2.13.0.tar.gz StartedAt: 2025-02-05 20:05:08 -0500 (Wed, 05 Feb 2025) EndedAt: 2025-02-05 20:05:59 -0500 (Wed, 05 Feb 2025) EllapsedTime: 51.6 seconds RetCode: 0 Status: OK CheckDir: meshr.Rcheck Warnings: 0