Package: meshr Version: 2.13.0 Command: rm -rf meshr.buildbin-libdir && mkdir meshr.buildbin-libdir && /Users/biocbuild/BBS/utils/build-universal.sh meshr_2.13.0.tar.gz /Library/Frameworks/R.framework/Resources/bin/R meshr.buildbin-libdir StartedAt: 2025-02-03 22:56:01 -0500 (Mon, 03 Feb 2025) EndedAt: 2025-02-03 22:56:10 -0500 (Mon, 03 Feb 2025) EllapsedTime: 9.2 seconds RetCode: 0 Status: OK PackageFile: meshr_2.13.0.tgz PackageFileSize: 930.7 KiB