Package: meshes Version: 1.35.0 Command: /Library/Frameworks/R.framework/Resources/bin/R CMD INSTALL meshes StartedAt: 2025-05-02 15:37:43 -0400 (Fri, 02 May 2025) EndedAt: 2025-05-02 15:38:17 -0400 (Fri, 02 May 2025) EllapsedTime: 33.6 seconds RetCode: 0 Status: OK