Package: meshes Version: 1.35.0 Command: /Library/Frameworks/R.framework/Resources/bin/R CMD INSTALL meshes StartedAt: 2025-05-06 15:24:56 -0400 (Tue, 06 May 2025) EndedAt: 2025-05-06 15:25:07 -0400 (Tue, 06 May 2025) EllapsedTime: 11.6 seconds RetCode: 0 Status: OK