Package: meshes Version: 1.35.0 Command: /Library/Frameworks/R.framework/Resources/bin/R CMD build --keep-empty-dirs --no-resave-data meshes StartedAt: 2025-05-07 16:53:06 -0400 (Wed, 07 May 2025) EndedAt: 2025-05-07 16:53:18 -0400 (Wed, 07 May 2025) EllapsedTime: 12.1 seconds RetCode: 0 Status: OK PackageFile: meshes_1.35.0.tar.gz PackageFileSize: 922.1 KiB