Package: memes Version: 1.15.0 Command: E:\biocbuild\bbs-3.21-bioc\R\bin\R.exe CMD INSTALL memes StartedAt: 2025-02-16 15:49:30 -0500 (Sun, 16 Feb 2025) EndedAt: 2025-02-16 15:50:12 -0500 (Sun, 16 Feb 2025) EllapsedTime: 41.6 seconds RetCode: 0 Status: OK