Package: memes Version: 1.15.0 Command: E:\biocbuild\bbs-3.21-bioc\R\bin\R.exe CMD check --no-multiarch --install=check:memes.install-out.txt --library=E:\biocbuild\bbs-3.21-bioc\R\library --no-vignettes --timings memes_1.15.0.tar.gz StartedAt: 2025-02-15 02:48:44 -0500 (Sat, 15 Feb 2025) EndedAt: 2025-02-15 02:51:14 -0500 (Sat, 15 Feb 2025) EllapsedTime: 149.6 seconds RetCode: 0 Status: WARNINGS CheckDir: memes.Rcheck Warnings: 1