Package: memes Version: 1.17.2 Command: /home/biocbuild/bbs-3.22-bioc/R/bin/R CMD INSTALL memes StartedAt: 2025-10-28 15:23:45 -0400 (Tue, 28 Oct 2025) EndedAt: 2025-10-28 15:23:59 -0400 (Tue, 28 Oct 2025) EllapsedTime: 13.8 seconds RetCode: 0 Status: OK