Package: memes Version: 1.17.2 Command: /home/biocbuild/bbs-3.22-bioc/R/bin/R CMD build --keep-empty-dirs --no-resave-data --md5 memes StartedAt: 2025-10-27 18:31:38 -0400 (Mon, 27 Oct 2025) EndedAt: 2025-10-27 18:32:31 -0400 (Mon, 27 Oct 2025) EllapsedTime: 53.0 seconds RetCode: 0 Status: OK PackageFile: memes_1.17.2.tar.gz PackageFileSize: 1.027 MiB