Package: memes Version: 1.15.0 Command: /Library/Frameworks/R.framework/Resources/bin/R CMD build --keep-empty-dirs --no-resave-data memes StartedAt: 2025-02-16 17:11:04 -0500 (Sun, 16 Feb 2025) EndedAt: 2025-02-16 17:12:26 -0500 (Sun, 16 Feb 2025) EllapsedTime: 82.3 seconds RetCode: 0 Status: OK PackageFile: memes_1.15.0.tar.gz PackageFileSize: 1.118 MiB