Package: memes Version: 1.15.0 Command: /Library/Frameworks/R.framework/Resources/bin/R CMD build --keep-empty-dirs --no-resave-data memes StartedAt: 2025-02-03 17:26:54 -0500 (Mon, 03 Feb 2025) EndedAt: 2025-02-03 17:27:21 -0500 (Mon, 03 Feb 2025) EllapsedTime: 27.3 seconds RetCode: 0 Status: OK PackageFile: memes_1.15.0.tar.gz PackageFileSize: 1.118 MiB