Package: megadepth Version: 1.19.0 Command: /home/biocbuild/R/R/bin/R CMD build --keep-empty-dirs --no-resave-data megadepth StartedAt: 2025-09-30 01:10:22 -0000 (Tue, 30 Sep 2025) EndedAt: 2025-09-30 01:10:46 -0000 (Tue, 30 Sep 2025) EllapsedTime: 24.0 seconds RetCode: 1 Status: ERROR PackageFile: None PackageFileSize: NA