Package: megadepth Version: 1.17.0 Command: E:\biocbuild\bbs-3.21-bioc\R\bin\R.exe CMD check --no-multiarch --install=check:megadepth.install-out.txt --library=E:\biocbuild\bbs-3.21-bioc\R\library --no-vignettes --timings megadepth_1.17.0.tar.gz StartedAt: 2025-02-05 03:06:32 -0500 (Wed, 05 Feb 2025) EndedAt: 2025-02-05 03:08:35 -0500 (Wed, 05 Feb 2025) EllapsedTime: 123.6 seconds RetCode: 0 Status: OK CheckDir: megadepth.Rcheck Warnings: 0