Package: megadepth Version: 1.17.0 Command: chmod a+r megadepth -R && E:\biocbuild\bbs-3.21-bioc\R\bin\R.exe CMD build --keep-empty-dirs --no-resave-data megadepth StartedAt: 2025-02-04 19:46:02 -0500 (Tue, 04 Feb 2025) EndedAt: 2025-02-04 19:46:55 -0500 (Tue, 04 Feb 2025) EllapsedTime: 53.3 seconds RetCode: 0 Status: OK PackageFile: megadepth_1.17.0.tar.gz PackageFileSize: 466.8 KiB