Package: megadepth Version: 1.17.0 Command: rm -rf megadepth.buildbin-libdir && mkdir megadepth.buildbin-libdir && E:\biocbuild\bbs-3.21-bioc\R\bin\R.exe CMD INSTALL --build --library=megadepth.buildbin-libdir megadepth_1.17.0.tar.gz StartedAt: 2025-02-05 08:17:26 -0500 (Wed, 05 Feb 2025) EndedAt: 2025-02-05 08:17:53 -0500 (Wed, 05 Feb 2025) EllapsedTime: 26.8 seconds RetCode: 0 Status: OK PackageFile: megadepth_1.17.0.zip PackageFileSize: 493.3 KiB