Package: megadepth Version: 1.19.0 Command: /home/biocbuild/bbs-3.22-bioc/R/bin/R CMD INSTALL megadepth StartedAt: 2025-10-24 15:47:32 -0400 (Fri, 24 Oct 2025) EndedAt: 2025-10-24 15:47:43 -0400 (Fri, 24 Oct 2025) EllapsedTime: 10.2 seconds RetCode: 0 Status: OK