Package: megadepth Version: 1.17.0 Command: /Library/Frameworks/R.framework/Resources/bin/R CMD INSTALL megadepth StartedAt: 2025-02-12 15:30:32 -0500 (Wed, 12 Feb 2025) EndedAt: 2025-02-12 15:30:48 -0500 (Wed, 12 Feb 2025) EllapsedTime: 16.1 seconds RetCode: 0 Status: OK